BEGIN:VCALENDAR
VERSION:2.0
PRODID:-//wp-events-plugin.com//7.2.3.1//EN
TZID:America/New_York
X-WR-TIMEZONE:America/New_York
BEGIN:VEVENT
UID:139@lincolndems.org
DTSTART;TZID=America/New_York:20231031T163000
DTEND;TZID=America/New_York:20231031T200000
DTSTAMP:20231002T175503Z
URL:https://lincolndems.org/events/trunk-or-treat/
SUMMARY:Trunk or Treat !!
DESCRIPTION:For Halloween we are planning a Trunk or Treat!   We could us
 e help handing out treat bags\, otherwise bring your families!   Lincoln
  County Headquarters.
END:VEVENT
BEGIN:VTIMEZONE
TZID:America/New_York
X-LIC-LOCATION:America/New_York
BEGIN:DAYLIGHT
DTSTART:20230312T030000
TZOFFSETFROM:-0500
TZOFFSETTO:-0400
TZNAME:EDT
END:DAYLIGHT
END:VTIMEZONE
END:VCALENDAR