BEGIN:VCALENDAR
VERSION:2.0
PRODID:-//wp-events-plugin.com//7.2.3.1//EN
TZID:America/New_York
X-WR-TIMEZONE:America/New_York
BEGIN:VEVENT
UID:382@lincolndems.org
DTSTART;TZID=America/New_York:20251011T120000
DTEND;TZID=America/New_York:20251011T160000
DTSTAMP:20250926T181710Z
URL:https://lincolndems.org/events/the-big-fat-chili-cook-off-at-untapped-
 territory/
SUMMARY:The Big Fat Chili Cook-Off at Untapped Territory
DESCRIPTION:Big Fat Chili Cook-off\n\nOctober 11th\n\nDemocratic Men of Lin
 coln County Booth at the Big Fat Chili Cook-off to Benefit the Alzheimer A
 ssociation on the Untapped Territory grounds.  It is  October 11th from 
 Noon to 4:00 pm when judging occurs.  All proceeds go to the Alzheimer As
 sociation.  We are determined to win the People's Choice prize at the ver
 y least but need your support of this worthy cause.\nTeam Spokesperson - F
 orrest Chambless\nChef - Greg McBryde\nField Manager - Kimberly Tackett\nL
 ogistics and Booth Theme - Beth Wise\nFood Critic - Steve Killian\n\n\n\n&
 nbsp\;\n\n&nbsp\;
CATEGORIES:Community Event,Democratic Men
LOCATION:Untapped Territory\, 118 East Water Street\, Lincolnton \, North C
 arolina\, 28092\, United States
GEO:35.470785;-81.256016
X-APPLE-STRUCTURED-LOCATION;VALUE=URI;X-ADDRESS=118 East Water Street\, Lin
 colnton \, North Carolina\, 28092\, United States;X-APPLE-RADIUS=100;X-TIT
 LE=Untapped Territory:geo:35.470785,-81.256016
END:VEVENT
BEGIN:VTIMEZONE
TZID:America/New_York
X-LIC-LOCATION:America/New_York
BEGIN:DAYLIGHT
DTSTART:20250309T030000
TZOFFSETFROM:-0500
TZOFFSETTO:-0400
TZNAME:EDT
END:DAYLIGHT
END:VTIMEZONE
END:VCALENDAR