BEGIN:VCALENDAR
VERSION:2.0
PRODID:-//wp-events-plugin.com//7.2.3.1//EN
TZID:America/New_York
X-WR-TIMEZONE:America/New_York
BEGIN:VEVENT
UID:123@lincolndems.org
DTSTART;TZID=America/New_York:20231101T170000
DTEND;TZID=America/New_York:20231101T193000
DTSTAMP:20230923T194333Z
URL:https://lincolndems.org/events/rachel-hunt-for-lieutenant-governor-fun
 d-raiser-wednesday-november-1-2023/
SUMMARY:Rachel Hunt for Lieutenant Governor Fund Raiser Wednesday November 
 1\, 2023
DESCRIPTION:[pdf-embedder url="https://lincolndems.org/wp9/wp-content/uploa
 ds/2023/09/Rachel-Hunt-Fund-Raiser-2.pdf" title="Rachel Hunt Fund Raiser 2
 "]
END:VEVENT
BEGIN:VTIMEZONE
TZID:America/New_York
X-LIC-LOCATION:America/New_York
BEGIN:DAYLIGHT
DTSTART:20230312T030000
TZOFFSETFROM:-0500
TZOFFSETTO:-0400
TZNAME:EDT
END:DAYLIGHT
END:VTIMEZONE
END:VCALENDAR