BEGIN:VCALENDAR
VERSION:2.0
PRODID:-//wp-events-plugin.com//7.2.3.1//EN
TZID:America/New_York
X-WR-TIMEZONE:America/New_York
BEGIN:VEVENT
UID:346@lincolndems.org
DTSTART;TZID=America/New_York:20250329T100000
DTEND;TZID=America/New_York:20250329T120000
DTSTAMP:20250317T150220Z
URL:https://lincolndems.org/events/precinct-meetings-lowesville-lowesville
 -west-westport-triangle-denver-denver-west-cowans-ford/
SUMMARY:Precinct Meetings: Cowans Ford\, Denver\, Denver West\, Lowesville\
 , Lowesville West\, Ore Bank\, Pumpkin Center\, Triangle A\, Westport West
 port\, Triangle\, Denver\, Denver West\, Cowans Ford
DESCRIPTION:All Democrats and Unaffiliated Voters in these precincts are in
 vited.  Please come.   Agenda: Votes for Precinct Chair\, Vice Chair\, 
 Secretary and Treasurer.   Plans for community involvement\, Billboard p
 lan for each precinct\, volunteer recruitment.  Unaffiliated voters encou
 raged to join in.  (voting on precinct officials are restricted to Dems o
 nly)\n\nCowans Ford\, Denver\, Denver West\, Lowesville\, Lowesville West\
 , Ore Bank\, Pumpkin Center\, Triangle A\, Wesport.\n\n\n\n&nbsp\;
LOCATION:East Lincoln Community Center\, 8160 Optimist Club Road \, Denver
 \, NC\, United States
GEO:35.474947;-81.00126
X-APPLE-STRUCTURED-LOCATION;VALUE=URI;X-ADDRESS=8160 Optimist Club Road \,
  Denver\, NC\, United States;X-APPLE-RADIUS=100;X-TITLE=East Lincoln Commu
 nity Center:geo:35.474947,-81.00126
END:VEVENT
BEGIN:VTIMEZONE
TZID:America/New_York
X-LIC-LOCATION:America/New_York
BEGIN:DAYLIGHT
DTSTART:20250309T030000
TZOFFSETFROM:-0500
TZOFFSETTO:-0400
TZNAME:EDT
END:DAYLIGHT
END:VTIMEZONE
END:VCALENDAR