BEGIN:VCALENDAR
VERSION:2.0
PRODID:-//wp-events-plugin.com//7.2.3.1//EN
TZID:America/New_York
X-WR-TIMEZONE:America/New_York
BEGIN:VEVENT
UID:660@lincolndems.org
DTSTART;TZID=America/New_York:20260310T180000
DTEND;TZID=America/New_York:20260310T190000
DTSTAMP:20260306T162940Z
URL:https://lincolndems.org/events/precinct-leader-onboarding-refresher/
SUMMARY:Precinct Leader Onboarding & Refresher
DESCRIPTION:VIRTUAL MEETING!!  PLEASE SIGN UP USING LINK\n\nAgenda:\n\nInt
 roduction to Precinct Organizing\, Precinct Officer Roles and Responsibili
 ties\, About your County Convention\, Resources and Support\n\nWho is thi
 s for?? Newly elected or continuing Precinct Leaders.\n\nLink:  https://w
 ww.mobilize.us/bluefuture/event/885834/?rname=Steve&amp\;share_context=eve
 nt_details&amp\;share_medium=copy_link
CATEGORIES:Virtual Event
END:VEVENT
BEGIN:VTIMEZONE
TZID:America/New_York
X-LIC-LOCATION:America/New_York
BEGIN:DAYLIGHT
DTSTART:20260308T030000
TZOFFSETFROM:-0500
TZOFFSETTO:-0400
TZNAME:EDT
END:DAYLIGHT
END:VTIMEZONE
END:VCALENDAR