BEGIN:VCALENDAR
VERSION:2.0
PRODID:-//wp-events-plugin.com//7.2.3.1//EN
TZID:America/New_York
X-WR-TIMEZONE:America/New_York
BEGIN:VEVENT
UID:664@lincolndems.org
DTSTART;TZID=America/New_York:20260328T140000
DTEND;TZID=America/New_York:20260328T153000
DTSTAMP:20260306T185816Z
URL:https://lincolndems.org/events/no-kings-join-indivisible-lincoln-count
 y-nc-for-2-protests-denver-lincolnton-2/
SUMMARY:NO KINGS!  Join Indivisible Lincoln County NC for 2 Protests.  Denv
 er& Lincolnton
DESCRIPTION:There will be 2 Protests on this day\, Saturday March 28th.  O
 ne in Denver and One in Lincolnton.  Please sign up!  It is important th
 at Indivisible knows approximately how many people will show up!\n\nFighti
 ng Dictatorship Together!  Make your voices heard!  "When Injustice Beco
 mes Law\, Resistance Becomes Duty!  Join us.\n\nLocation in Denver:  715
 8 NC-73 Denver\, NC.  Public frontate at Burger King and Murphy's Gas.\n\
 n10:30 am- Noon\n\nhttps://www.indivisiblelincolncountync.org/events-1/no-
 kings-denver-nc\n\nLincolnton: 2100 E. Main Street\, Lincolnton\, NC (empt
 y lot between Zips and KFC)\n\n2:00pm - 3:30pm\n\nBring Sunscreen\, water 
 and a sign!\n\n[caption id="attachment_8152" align="alignnone" width="232"
 ] Date: Saturday\, March 28\, 2026 Time: 10:30 am - Noon Location: 7158 NC
 -73\, Denver NC (PUBLIC FRONTAGE AT BURGER KING &amp\; MURPHY’S GAS) RSV
 P &amp\; find details at: www.indivisiblelincolncountync.org/events - 1[/c
 aption]\n\n[caption id="attachment_8153" align="alignnone" width="232"] Da
 te: Saturday\, March 28\, 2026 Time: 10:30 am - Noon Location: 7158 NC-73\
 , Denver NC (PUBLIC FRONTAGE AT BURGER KING &amp\; MURPHY’S GAS) RSVP &a
 mp\; find details at: www.indivisiblelincolncountync.org/events - 2[/capti
 on]
CATEGORIES:Protest
LOCATION:Lincolnton Protest Site\, 2100 E. Main Street \, Lincolnton \, Nor
 th Carolina \, 28092\, United States
GEO:35.478567;-81.223695
X-APPLE-STRUCTURED-LOCATION;VALUE=URI;X-ADDRESS=2100 E. Main Street \, Linc
 olnton \, North Carolina \, 28092\, United States;X-APPLE-RADIUS=100;X-TIT
 LE=Lincolnton Protest Site:geo:35.478567,-81.223695
END:VEVENT
BEGIN:VTIMEZONE
TZID:America/New_York
X-LIC-LOCATION:America/New_York
BEGIN:DAYLIGHT
DTSTART:20260308T030000
TZOFFSETFROM:-0500
TZOFFSETTO:-0400
TZNAME:EDT
END:DAYLIGHT
END:VTIMEZONE
END:VCALENDAR