BEGIN:VCALENDAR
VERSION:2.0
PRODID:-//wp-events-plugin.com//7.2.3.1//EN
TZID:America/New_York
X-WR-TIMEZONE:America/New_York
BEGIN:VEVENT
UID:121@lincolndems.org
DTSTART;TZID=America/New_York:20230827T140000
DTEND;TZID=America/New_York:20230827T170000
DTSTAMP:20230825T014002Z
URL:https://lincolndems.org/events/meet-and-greet-north-brook-daniels-vale
 /
SUMMARY:Meet and Greet North Brook & Daniels/Vale
DESCRIPTION:North Brook and Daniels/Vale Meet and Greet.
LOCATION:Lincoln Country Club\, 2052 Country Club Rd\, Lincolnton\,\, NC\, 
 28092 \, United States
GEO:35.461907;-81.221031
X-APPLE-STRUCTURED-LOCATION;VALUE=URI;X-ADDRESS=2052 Country Club Rd\, Linc
 olnton\,\, NC\, 28092 \, United States;X-APPLE-RADIUS=100;X-TITLE=Lincoln 
 Country Club:geo:35.461907,-81.221031
END:VEVENT
BEGIN:VTIMEZONE
TZID:America/New_York
X-LIC-LOCATION:America/New_York
BEGIN:DAYLIGHT
DTSTART:20230312T030000
TZOFFSETFROM:-0500
TZOFFSETTO:-0400
TZNAME:EDT
END:DAYLIGHT
END:VTIMEZONE
END:VCALENDAR