BEGIN:VCALENDAR
VERSION:2.0
PRODID:-//Lincoln County, NC Democratic Party - ECPv6.15.20//NONSGML v1.0//EN
CALSCALE:GREGORIAN
METHOD:PUBLISH
X-ORIGINAL-URL:https://lincolndems.org
X-WR-CALDESC:Events for Lincoln County, NC Democratic Party
REFRESH-INTERVAL;VALUE=DURATION:PT1H
X-Robots-Tag:noindex
X-PUBLISHED-TTL:PT1H
BEGIN:VTIMEZONE
TZID:America/New_York
BEGIN:DAYLIGHT
TZOFFSETFROM:-0500
TZOFFSETTO:-0400
TZNAME:EDT
DTSTART:20200308T070000
END:DAYLIGHT
BEGIN:STANDARD
TZOFFSETFROM:-0400
TZOFFSETTO:-0500
TZNAME:EST
DTSTART:20201101T060000
END:STANDARD
BEGIN:DAYLIGHT
TZOFFSETFROM:-0500
TZOFFSETTO:-0400
TZNAME:EDT
DTSTART:20210314T070000
END:DAYLIGHT
BEGIN:STANDARD
TZOFFSETFROM:-0400
TZOFFSETTO:-0500
TZNAME:EST
DTSTART:20211107T060000
END:STANDARD
BEGIN:DAYLIGHT
TZOFFSETFROM:-0500
TZOFFSETTO:-0400
TZNAME:EDT
DTSTART:20220313T070000
END:DAYLIGHT
BEGIN:STANDARD
TZOFFSETFROM:-0400
TZOFFSETTO:-0500
TZNAME:EST
DTSTART:20221106T060000
END:STANDARD
END:VTIMEZONE
BEGIN:VEVENT
DTSTART;TZID=America/New_York:20210313T100000
DTEND;TZID=America/New_York:20210313T110000
DTSTAMP:20260420T151828
CREATED:20210310T001902Z
LAST-MODIFIED:20210317T020951Z
UID:2910-1615629600-1615633200@lincolndems.org
SUMMARY:Precinct Meeting: Cowan’s Ford
DESCRIPTION:Any Lincoln County registered Democrat who wishes to attend his/her precinct meeting should contact the chair at lcncdp@gmail.com giving their name as listed in the Board of Elections or call the party headquarters at 704 748-1032 with the same information.  All meetings will be conducted through Zoom.
URL:https://lincolndems.org/event/precinct-meeting-cowans-ford/
CATEGORIES:Precinct Meeting
END:VEVENT
BEGIN:VEVENT
DTSTART;TZID=America/New_York:20210313T100000
DTEND;TZID=America/New_York:20210313T110000
DTSTAMP:20260420T151828
CREATED:20210310T001314Z
LAST-MODIFIED:20210317T021005Z
UID:2908-1615629600-1615633200@lincolndems.org
SUMMARY:Precinct Meeting: Boger City
DESCRIPTION:Any Lincoln County registered Democrat who wishes to attend his/her precinct meeting should contact the chair at lcncdp@gmail.com giving their name as listed in the Board of Elections or call the party headquarters at 704 748-1032 with the same information.  All meetings will be conducted through Zoom.
URL:https://lincolndems.org/event/precinct-meeting-boger-city/
CATEGORIES:Precinct Meeting
END:VEVENT
BEGIN:VEVENT
DTSTART;TZID=America/New_York:20210313T100000
DTEND;TZID=America/New_York:20210313T110000
DTSTAMP:20260420T151828
CREATED:20210303T025135Z
LAST-MODIFIED:20210303T025135Z
UID:2872-1615629600-1615633200@lincolndems.org
SUMMARY:Precinct Meeting: North Brook 3A
DESCRIPTION:Any Lincoln County registered Democrat who wishes to attend his/her precinct meeting should contact the chair at lcncdp@gmail.com giving their name as listed in the Board of Elections or call the party headquarters at 704 748-1032 with the same information.  All meetings will be conducted through Zoom.
URL:https://lincolndems.org/event/precinct-meeting-north-brook-3a/
CATEGORIES:Precinct Meeting
END:VEVENT
BEGIN:VEVENT
DTSTART;TZID=America/New_York:20210313T100000
DTEND;TZID=America/New_York:20210313T110000
DTSTAMP:20260420T151828
CREATED:20210303T024833Z
LAST-MODIFIED:20210303T024833Z
UID:2904-1615629600-1615633200@lincolndems.org
SUMMARY:Precinct Meeting:  Lincolnton South
DESCRIPTION:Any Lincoln County registered Democrat who wishes to attend his/her precinct meeting should contact the chair at lcncdp@gmail.com giving their name as listed in the Board of Elections or call the party headquarters at 704 748-1032 with the same information.  All meetings will be conducted through Zoom.
URL:https://lincolndems.org/event/precinct-meeting-lincolnton-south/
CATEGORIES:Precinct Meeting
END:VEVENT
BEGIN:VEVENT
DTSTART;TZID=America/New_York:20210311T183000
DTEND;TZID=America/New_York:20210311T193000
DTSTAMP:20260420T151828
CREATED:20210310T002516Z
LAST-MODIFIED:20210317T020842Z
UID:2912-1615487400-1615491000@lincolndems.org
SUMMARY:Precinct Meeting: Howards Creek
DESCRIPTION:Any Lincoln County registered Democrat who wishes to attend his/her precinct meeting should contact the chair at lcncdp@gmail.com giving their name as listed in the Board of Elections or call the party headquarters at 704 748-1032 with the same information.  All meetings will be conducted through Zoom.
URL:https://lincolndems.org/event/precinct-meeting-howards-creek/
CATEGORIES:Precinct Meeting
END:VEVENT
BEGIN:VEVENT
DTSTART;TZID=America/New_York:20210310T190000
DTEND;TZID=America/New_York:20210310T200000
DTSTAMP:20260420T151828
CREATED:20210310T003348Z
LAST-MODIFIED:20210310T003348Z
UID:2915-1615402800-1615406400@lincolndems.org
SUMMARY:Precinct Meeting: Triangle A
DESCRIPTION:Any Lincoln County registered Democrat who wishes to attend his/her precinct meeting should contact the chair at lcncdp@gmail.com giving their name as listed in the Board of Elections or call the party headquarters at 704 748-1032 with the same information.  All meetings will be conducted through Zoom.
URL:https://lincolndems.org/event/precinct-meeting-triangle-a-2/
END:VEVENT
BEGIN:VEVENT
DTSTART;TZID=America/New_York:20210310T190000
DTEND;TZID=America/New_York:20210310T200000
DTSTAMP:20260420T151828
CREATED:20210303T025449Z
LAST-MODIFIED:20210313T184044Z
UID:2907-1615402800-1615406400@lincolndems.org
SUMMARY:Precinct Meeting:  Daniels Vale
DESCRIPTION:Any Lincoln County registered Democrat who wishes to attend his/her precinct meeting should contact the chair at lcncdp@gmail.com giving their name as listed in the Board of Elections or call the party headquarters at 704 748-1032 with the same information.  All meetings will be conducted through Zoom.
URL:https://lincolndems.org/event/precinct-meeting-triangle-a/
CATEGORIES:Precinct Meeting
END:VEVENT
BEGIN:VEVENT
DTSTART;TZID=America/New_York:20210310T190000
DTEND;TZID=America/New_York:20210310T200000
DTSTAMP:20260420T151828
CREATED:20210303T024438Z
LAST-MODIFIED:20210303T024438Z
UID:2903-1615402800-1615406400@lincolndems.org
SUMMARY:Precinct Meeting:  Lincolnton North
DESCRIPTION:Any Lincoln County registered Democrat who wishes to attend his/her precinct meeting should contact the chair at lcncdp@gmail.com giving their name as listed in the Board of Elections or call the party headquarters at 704 748-1032 with the same information.  All meetings will be conducted through Zoom.
URL:https://lincolndems.org/event/precinct-meeting-lincolnton-north/
CATEGORIES:Precinct Meeting
END:VEVENT
BEGIN:VEVENT
DTSTART;TZID=America/New_York:20210306T100000
DTEND;TZID=America/New_York:20210306T110000
DTSTAMP:20260420T151828
CREATED:20210303T024005Z
LAST-MODIFIED:20210303T024005Z
UID:2902-1615024800-1615028400@lincolndems.org
SUMMARY:Precinct Meeting:  Laboratory
DESCRIPTION:Any Lincoln County registered Democrat who wishes to attend his/her precinct meeting should contact the chair at lcncdp@gmail.com giving their name as listed in the Board of Elections or call the party headquarters at 704 748-1032 with the same information.  All meetings will be conducted through Zoom.
URL:https://lincolndems.org/event/precinct-meeting-laboratory/
CATEGORIES:Precinct Meeting
END:VEVENT
BEGIN:VEVENT
DTSTART;TZID=America/New_York:20210306T100000
DTEND;TZID=America/New_York:20210306T100000
DTSTAMP:20260420T151828
CREATED:20210303T025001Z
LAST-MODIFIED:20210303T025001Z
UID:2905-1615024800-1615024800@lincolndems.org
SUMMARY:Precinct Meeting:  Lithia
DESCRIPTION:Any Lincoln County registered Democrat who wishes to attend his/her precinct meeting should contact the chair at lcncdp@gmail.com giving their name as listed in the Board of Elections or call the party headquarters at 704 748-1032 with the same information.  All meetings will be conducted through Zoom.
URL:https://lincolndems.org/event/precinct-meeting-lithia/
CATEGORIES:Precinct Meeting
END:VEVENT
END:VCALENDAR