BEGIN:VCALENDAR
VERSION:2.0
PRODID:-//Lincoln County, NC Democratic Party - ECPv6.15.20//NONSGML v1.0//EN
CALSCALE:GREGORIAN
METHOD:PUBLISH
X-ORIGINAL-URL:https://lincolndems.org
X-WR-CALDESC:Events for Lincoln County, NC Democratic Party
REFRESH-INTERVAL;VALUE=DURATION:PT1H
X-Robots-Tag:noindex
X-PUBLISHED-TTL:PT1H
BEGIN:VTIMEZONE
TZID:America/New_York
BEGIN:DAYLIGHT
TZOFFSETFROM:-0500
TZOFFSETTO:-0400
TZNAME:EDT
DTSTART:20200308T070000
END:DAYLIGHT
BEGIN:STANDARD
TZOFFSETFROM:-0400
TZOFFSETTO:-0500
TZNAME:EST
DTSTART:20201101T060000
END:STANDARD
BEGIN:DAYLIGHT
TZOFFSETFROM:-0500
TZOFFSETTO:-0400
TZNAME:EDT
DTSTART:20210314T070000
END:DAYLIGHT
BEGIN:STANDARD
TZOFFSETFROM:-0400
TZOFFSETTO:-0500
TZNAME:EST
DTSTART:20211107T060000
END:STANDARD
BEGIN:DAYLIGHT
TZOFFSETFROM:-0500
TZOFFSETTO:-0400
TZNAME:EDT
DTSTART:20220313T070000
END:DAYLIGHT
BEGIN:STANDARD
TZOFFSETFROM:-0400
TZOFFSETTO:-0500
TZNAME:EST
DTSTART:20221106T060000
END:STANDARD
BEGIN:DAYLIGHT
TZOFFSETFROM:-0500
TZOFFSETTO:-0400
TZNAME:EDT
DTSTART:20230312T070000
END:DAYLIGHT
BEGIN:STANDARD
TZOFFSETFROM:-0400
TZOFFSETTO:-0500
TZNAME:EST
DTSTART:20231105T060000
END:STANDARD
BEGIN:DAYLIGHT
TZOFFSETFROM:-0500
TZOFFSETTO:-0400
TZNAME:EDT
DTSTART:20240310T070000
END:DAYLIGHT
BEGIN:STANDARD
TZOFFSETFROM:-0400
TZOFFSETTO:-0500
TZNAME:EST
DTSTART:20241103T060000
END:STANDARD
BEGIN:DAYLIGHT
TZOFFSETFROM:-0500
TZOFFSETTO:-0400
TZNAME:EDT
DTSTART:20250309T070000
END:DAYLIGHT
BEGIN:STANDARD
TZOFFSETFROM:-0400
TZOFFSETTO:-0500
TZNAME:EST
DTSTART:20251102T060000
END:STANDARD
BEGIN:DAYLIGHT
TZOFFSETFROM:-0500
TZOFFSETTO:-0400
TZNAME:EDT
DTSTART:20260308T070000
END:DAYLIGHT
BEGIN:STANDARD
TZOFFSETFROM:-0400
TZOFFSETTO:-0500
TZNAME:EST
DTSTART:20261101T060000
END:STANDARD
END:VTIMEZONE
BEGIN:VEVENT
DTSTART;TZID=America/New_York:20250329T100000
DTEND;TZID=America/New_York:20250329T120000
DTSTAMP:20260420T064213
CREATED:20250304T224831Z
LAST-MODIFIED:20250305T134456Z
UID:6940-1743242400-1743249600@lincolndems.org
SUMMARY:Precinct Meetings East Lincoln County
DESCRIPTION:All Democrats and Unaffiliated Voters in these precincts are invited.  Please come.   Agenda: Votes for Precinct Chair\, Vice Chair\, Secretary and Treasurer.   Plans for community involvement\, Billboard plan for each precinct\, volunteer recruitment.  Unaffiliated voters encouraged to join in.  (voting on precinct officials are restricted to Dems only) \nCowan’s Ford\, Denver\, Denver West\, Lowesville\, Lowesville West\, Ore Bank\, Pumpkin Center\, Triangle A\, Westport \n \n 
URL:https://lincolndems.org/event/precinct-meetings-lowesville-lowesville-west-triangle-westport-denver-denver-west-cowans-ford/
CATEGORIES:Precinct Meeting
END:VEVENT
BEGIN:VEVENT
DTSTART;TZID=America/New_York:20250325T180000
DTEND;TZID=America/New_York:20250325T200000
DTSTAMP:20260420T064213
CREATED:20250304T224643Z
LAST-MODIFIED:20250305T134535Z
UID:6938-1742925600-1742932800@lincolndems.org
SUMMARY:Precinct Meetings: Lincolnton South\, North Brook 3a\, Asbury\, Daniels/Vale\, Labortory
DESCRIPTION:All Democrats and Unaffiliated Voters in these precincts are invited.  Please come.   Agenda: Votes for Precinct Chair\, Vice Chair\, Secretary and Treasurer.   Plans for community involvement\, Billboard plan for each precinct\, volunteer recruitment.  Unaffiliated voters encouraged to join in.  (voting on precinct officials are restricted to Dems only) \nLincolnton South\, North Brook 3A\, Asbury\, Daniels/Vale\, Labortory \n \n 
URL:https://lincolndems.org/event/precinct-meetings-lincolnton-lincolnton-south-north-brook-3a/
LOCATION:LCDP Headquarters
CATEGORIES:Precinct Meeting
END:VEVENT
BEGIN:VEVENT
DTSTART;TZID=America/New_York:20250322T140000
DTEND;TZID=America/New_York:20250322T160000
DTSTAMP:20260420T064213
CREATED:20250304T224443Z
LAST-MODIFIED:20250305T134729Z
UID:6936-1742652000-1742659200@lincolndems.org
SUMMARY:Precinct Meetings: Boger City\, Lithia\, Buffalo Shoals Startown Salem
DESCRIPTION:All Democrats and Unaffiliated Voters in these precincts are invited.  Please come.   Agenda: Votes for Precinct Chair\, Vice Chair\, Secretary and Treasurer.   Plans for community involvement\, Billboard plan for each precinct\, volunteer recruitment.  Unaffiliated voters encouraged to join in.  (voting on precinct officials are restricted to Dems only) \nBoger City\, Lithia\, Buffalo Shoals\, Startown\, Salem \n \n  \n 
URL:https://lincolndems.org/event/precinct-meetings-boger-city-lithia-buffalo-shoals-startown-asbury/
LOCATION:LCDP Headquarters
CATEGORIES:Precinct Meeting
END:VEVENT
BEGIN:VEVENT
DTSTART;TZID=America/New_York:20250317T180000
DTEND;TZID=America/New_York:20250317T200000
DTSTAMP:20260420T064213
CREATED:20250305T133808Z
LAST-MODIFIED:20250305T134840Z
UID:6959-1742234400-1742241600@lincolndems.org
SUMMARY:Precinct Meetings:  Iron Station\, Iron Station South\, Lincolnton North
DESCRIPTION:All Democrats and Unaffiliated Voters in these precincts are invited.  Please come.   Agenda: Votes for Precinct Chair\, Vice Chair\, Secretary and Treasurer.   Plans for community involvement\, Billboard plan for each precinct\, volunteer recruitment.  Unaffiliated voters encouraged to join in.  (voting on precinct officials are restricted to Dems only) \nIron Station\, Iron Station South\, Lincolnton North
URL:https://lincolndems.org/event/precinct-meetings-iron-station-iron-station-south-lincolnton-north/
LOCATION:LCDP Headquarters
CATEGORIES:Precinct Meeting
END:VEVENT
BEGIN:VEVENT
DTSTART;TZID=America/New_York:20220809T183000
DTEND;TZID=America/New_York:20220809T200000
DTSTAMP:20260420T064213
CREATED:20220712T222223Z
LAST-MODIFIED:20220712T222223Z
UID:3757-1660069800-1660075200@lincolndems.org
SUMMARY:LCDP Executive Committe
DESCRIPTION:
URL:https://lincolndems.org/event/lcdp-executive-committe/
LOCATION:LCDP Headquarters
CATEGORIES:LCDP
END:VEVENT
BEGIN:VEVENT
DTSTART;TZID=America/New_York:20220625T170000
DTEND;TZID=America/New_York:20220625T200000
DTSTAMP:20260420T064213
CREATED:20220612T165627Z
LAST-MODIFIED:20220612T165627Z
UID:3728-1656176400-1656187200@lincolndems.org
SUMMARY:Startown Democratic Precinct Picnic
DESCRIPTION:POTLUCK with a grill.\nPlease RSVP: StartownDems@gmail.com
URL:https://lincolndems.org/event/startown-democratic-precinct-picnic/
LOCATION:2966 Startown Rd.\, 2966 Startown Rd.\, Lincolnton\, NC\, 28092\, United States
ORGANIZER;CN="Startown Precinct":MAILTO:StartownDems@gmail.com
END:VEVENT
BEGIN:VEVENT
DTSTART;TZID=America/New_York:20220618T090000
DTEND;TZID=America/New_York:20220618T160000
DTSTAMP:20260420T064213
CREATED:20220601T162454Z
LAST-MODIFIED:20220601T162454Z
UID:3722-1655542800-1655568000@lincolndems.org
SUMMARY:Juneteenth HQ Open Hours
DESCRIPTION:
URL:https://lincolndems.org/event/juneteenth-hq-open-hours/
LOCATION:LCDP Headquarters
CATEGORIES:LCDP
END:VEVENT
BEGIN:VEVENT
DTSTART;VALUE=DATE:20220618
DTEND;VALUE=DATE:20220619
DTSTAMP:20260420T064213
CREATED:20220601T153333Z
LAST-MODIFIED:20220601T153333Z
UID:3715-1655510400-1655596799@lincolndems.org
SUMMARY:Community Happenings: Juneteenth Festival Lincolnton Main Street
DESCRIPTION:Juneteenth Festival Lincolnton Main Street \n“Juneteenth (short for “June Nineteenth”) marks the day when federal troops arrived in Galveston\, Texas in 1865 to take control of the state and ensure that all enslaved people be freed. The troops’ arrival came a full two and a half years after the signing of the Emancipation Proclamation. Juneteenth honors the end to slavery in the United States and is considered the longest-running African American holiday. On June 17\, 2021\, it officially became a federal holiday.”\n     Source –  History Channel \nFun\, Culture\, Food\, vendors and kids activities.\nSweet potato pie and pound cake competition.
URL:https://lincolndems.org/event/community-happenings-juneteenth-festival-lincolnton-main-street/
LOCATION:Lincolnton Main Street\, 307 West Main Stree\, Lincolnton\, United States
END:VEVENT
BEGIN:VEVENT
DTSTART;TZID=America/New_York:20211030T170000
DTEND;TZID=America/New_York:20211030T190000
DTSTAMP:20260420T064213
CREATED:20211020T015042Z
LAST-MODIFIED:20211020T015042Z
UID:3411-1635613200-1635620400@lincolndems.org
SUMMARY:Tunk or Treat
DESCRIPTION:
URL:https://lincolndems.org/event/tunk-or-treat/
LOCATION:LCDP Headquarters
END:VEVENT
BEGIN:VEVENT
DTSTART;TZID=America/New_York:20211030T080000
DTEND;TZID=America/New_York:20211030T100000
DTSTAMP:20260420T064213
CREATED:20211020T014602Z
LAST-MODIFIED:20211020T014602Z
UID:3409-1635580800-1635588000@lincolndems.org
SUMMARY:LCDP Men's Breakfast
DESCRIPTION:
URL:https://lincolndems.org/event/lcdp-mens-breakfast/
LOCATION:LCDP Headquarters
END:VEVENT
BEGIN:VEVENT
DTSTART;TZID=America/New_York:20210810T183000
DTEND;TZID=America/New_York:20210810T200000
DTSTAMP:20260420T064213
CREATED:20210706T224222Z
LAST-MODIFIED:20210803T020828Z
UID:3355-1628620200-1628625600@lincolndems.org
SUMMARY:Lincoln County Democratic Party Meeting
DESCRIPTION:State of the City
URL:https://lincolndems.org/event/lincoln-county-democratic-party-meeting/
END:VEVENT
BEGIN:VEVENT
DTSTART;TZID=America/New_York:20210727T183000
DTEND;TZID=America/New_York:20210727T193000
DTSTAMP:20260420T064213
CREATED:20210623T031821Z
LAST-MODIFIED:20210623T031821Z
UID:3337-1627410600-1627414200@lincolndems.org
SUMMARY:LCDP Men's Meeting
DESCRIPTION:
URL:https://lincolndems.org/event/lcdp-mens-meeting/
LOCATION:LCDP Headquarters
CATEGORIES:LCDP Men
END:VEVENT
BEGIN:VEVENT
DTSTART;TZID=America/New_York:20210720T190000
DTEND;TZID=America/New_York:20210720T200000
DTSTAMP:20260420T064213
CREATED:20210623T032723Z
LAST-MODIFIED:20210623T032723Z
UID:3342-1626807600-1626811200@lincolndems.org
SUMMARY:African American Caucus
DESCRIPTION:
URL:https://lincolndems.org/event/african-american-caucus/
LOCATION:Tucker’s Grove Family Life Center
END:VEVENT
BEGIN:VEVENT
DTSTART;TZID=America/New_York:20210420T190000
DTEND;TZID=America/New_York:20210420T210000
DTSTAMP:20260420T064213
CREATED:20210327T003353Z
LAST-MODIFIED:20210327T004353Z
UID:3277-1618945200-1618952400@lincolndems.org
SUMMARY:African American Caucus (AAC) - Guest Speaker Felita Donnell
DESCRIPTION:Felita Donnell\, the President of the African American Caucus (AAC) of the North Carolina Democratic Party (NCDP) will be the guest speaker at this virtual Zoom meeting. \n \nIf you have not already been invited to this meeting\, please use our Contact Us webpage to request the Zoom link.
URL:https://lincolndems.org/event/african-american-caucus-aac-guest-speaker-felita-donnell/
END:VEVENT
BEGIN:VEVENT
DTSTART;TZID=America/New_York:20210401T100000
DTEND;TZID=America/New_York:20210401T140000
DTSTAMP:20260420T064213
CREATED:20210325T000216Z
LAST-MODIFIED:20210325T000216Z
UID:2973-1617271200-1617285600@lincolndems.org
SUMMARY:HQ Open
DESCRIPTION:Come drop by precinct donations\, items for our Silent Auction\, or stop in to say “hello!”
URL:https://lincolndems.org/event/hq-open-7/
END:VEVENT
BEGIN:VEVENT
DTSTART;TZID=America/New_York:20210331T100000
DTEND;TZID=America/New_York:20210331T140000
DTSTAMP:20260420T064213
CREATED:20210324T235727Z
LAST-MODIFIED:20210324T235727Z
UID:2967-1617184800-1617199200@lincolndems.org
SUMMARY:HQ Open
DESCRIPTION:Come drop by precinct donations\, items for our Silent Auction\, or stop in to say “hello!”
URL:https://lincolndems.org/event/hq-open-5/
END:VEVENT
BEGIN:VEVENT
DTSTART;TZID=America/New_York:20210330T100000
DTEND;TZID=America/New_York:20210330T140000
DTSTAMP:20260420T064213
CREATED:20210324T235634Z
LAST-MODIFIED:20210324T235634Z
UID:2965-1617098400-1617112800@lincolndems.org
SUMMARY:HQ Open
DESCRIPTION:Come drop by precinct donations\, items for our Silent Auction\, or stop in to say “hello!”
URL:https://lincolndems.org/event/hq-open-4/
END:VEVENT
BEGIN:VEVENT
DTSTART;TZID=America/New_York:20210325T100000
DTEND;TZID=America/New_York:20210325T140000
DTSTAMP:20260420T064213
CREATED:20210324T235543Z
LAST-MODIFIED:20210325T000058Z
UID:2963-1616666400-1616680800@lincolndems.org
SUMMARY:HQ Open
DESCRIPTION:Come drop by precinct donations\, items for our Silent Auction\, or stop in to say “hello!”
URL:https://lincolndems.org/event/hq-open-3/
END:VEVENT
BEGIN:VEVENT
DTSTART;TZID=America/New_York:20210324T100000
DTEND;TZID=America/New_York:20210324T140000
DTSTAMP:20260420T064213
CREATED:20210324T235337Z
LAST-MODIFIED:20210324T235337Z
UID:2959-1616580000-1616594400@lincolndems.org
SUMMARY:HQ Open
DESCRIPTION:Come drop by precinct donations\, items for our Silent Auction\, or stop in to say “hello!”
URL:https://lincolndems.org/event/hq-open/
END:VEVENT
BEGIN:VEVENT
DTSTART;TZID=America/New_York:20210323T190000
DTEND;TZID=America/New_York:20210323T200000
DTSTAMP:20260420T064213
CREATED:20210324T235823Z
LAST-MODIFIED:20210324T235938Z
UID:2969-1616526000-1616529600@lincolndems.org
SUMMARY:LCDP Men's Meeting w/ Chaz Beasley
DESCRIPTION:Please contact us at lcncdp@gmail.com for the Zoom registration link.
URL:https://lincolndems.org/event/hq-open-6/
END:VEVENT
BEGIN:VEVENT
DTSTART;TZID=America/New_York:20210323T100000
DTEND;TZID=America/New_York:20210323T140000
DTSTAMP:20260420T064213
CREATED:20210324T235435Z
LAST-MODIFIED:20210324T235435Z
UID:2961-1616493600-1616508000@lincolndems.org
SUMMARY:HQ Open
DESCRIPTION:Come drop by precinct donations\, items for our Silent Auction\, or stop in to say “hello!”
URL:https://lincolndems.org/event/hq-open-2/
END:VEVENT
BEGIN:VEVENT
DTSTART;TZID=America/New_York:20210320T130000
DTEND;TZID=America/New_York:20210320T140000
DTSTAMP:20260420T064213
CREATED:20210315T211722Z
LAST-MODIFIED:20210317T020311Z
UID:2935-1616245200-1616248800@lincolndems.org
SUMMARY:Precinct Meeting: Pumpkin Center
DESCRIPTION:Any Lincoln County registered Democrat who wishes to attend his/her precinct meeting should contact the chair at lcncdp@gmail.com giving their name as listed in the Board of Elections or call the party headquarters at 704 748-1032 with the same information.  All meetings will be conducted through Zoom.
URL:https://lincolndems.org/event/precinct-meeting-pumpkin-center/
LOCATION:Zoom
CATEGORIES:Precinct Meeting
END:VEVENT
BEGIN:VEVENT
DTSTART;TZID=America/New_York:20210320T103000
DTEND;TZID=America/New_York:20210320T113000
DTSTAMP:20260420T064213
CREATED:20210314T160602Z
LAST-MODIFIED:20210317T020651Z
UID:2926-1616236200-1616239800@lincolndems.org
SUMMARY:Precinct Meeting: Denver West
DESCRIPTION:Any Lincoln County registered Democrat who wishes to attend his/her precinct meeting should contact the chair at lcncdp@gmail.com giving their name as listed in the Board of Elections or call the party headquarters at 704 748-1032 with the same information.  All meetings will be conducted through Zoom.
URL:https://lincolndems.org/event/precinct-meeting-denver-west/
LOCATION:Zoom
CATEGORIES:Precinct Meeting
END:VEVENT
BEGIN:VEVENT
DTSTART;TZID=America/New_York:20210320T100000
DTEND;TZID=America/New_York:20210320T110000
DTSTAMP:20260420T064213
CREATED:20210310T003101Z
LAST-MODIFIED:20210317T020642Z
UID:2914-1616234400-1616238000@lincolndems.org
SUMMARY:Precinct Meeting: Ore Bank
DESCRIPTION:Any Lincoln County registered Democrat who wishes to attend his/her precinct meeting should contact the chair at lcncdp@gmail.com giving their name as listed in the Board of Elections or call the party headquarters at 704 748-1032 with the same information.  All meetings will be conducted through Zoom.
URL:https://lincolndems.org/event/precinct-meeting-ore-bank/
CATEGORIES:Precinct Meeting
END:VEVENT
BEGIN:VEVENT
DTSTART;TZID=America/New_York:20210320T100000
DTEND;TZID=America/New_York:20210320T110000
DTSTAMP:20260420T064213
CREATED:20210303T025310Z
LAST-MODIFIED:20210303T025310Z
UID:2906-1616234400-1616238000@lincolndems.org
SUMMARY:Precinct Meeting: Salem
DESCRIPTION:Any Lincoln County registered Democrat who wishes to attend his/her precinct meeting should contact the chair at lcncdp@gmail.com giving their name as listed in the Board of Elections or call the party headquarters at 704 748-1032 with the same information.  All meetings will be conducted through Zoom.
URL:https://lincolndems.org/event/precinct-meeting-salem/
CATEGORIES:Precinct Meeting
END:VEVENT
BEGIN:VEVENT
DTSTART;TZID=America/New_York:20210320T100000
DTEND;TZID=America/New_York:20210320T100000
DTSTAMP:20260420T064213
CREATED:20210303T023718Z
LAST-MODIFIED:20210303T023718Z
UID:2901-1616234400-1616234400@lincolndems.org
SUMMARY:Precinct Meeting:  Iron Station South
DESCRIPTION:Any Lincoln County registered Democrat who wishes to attend his/her precinct meeting should contact the chair at lcncdp@gmail.com giving their name as listed in the Board of Elections or call the party headquarters at 704 748-1032 with the same information.  All meetings will be conducted through Zoom.
URL:https://lincolndems.org/event/precinct-meeting-iron-station-south/
CATEGORIES:Precinct Meeting
END:VEVENT
BEGIN:VEVENT
DTSTART;TZID=America/New_York:20210319T190000
DTEND;TZID=America/New_York:20210319T200000
DTSTAMP:20260420T064213
CREATED:20210303T023219Z
LAST-MODIFIED:20210303T023219Z
UID:2900-1616180400-1616184000@lincolndems.org
SUMMARY:Precinct Meeting:  Denver
DESCRIPTION:Any Lincoln County registered Democrat who wishes to attend his/her precinct meeting should contact the chair at lcncdp@gmail.com giving their name as listed in the Board of Elections or call the party headquarters at 704 748-1032 with the same information.  All meetings will be conducted through Zoom.
URL:https://lincolndems.org/event/denver-precinct-meeting/
CATEGORIES:Precinct Meeting
END:VEVENT
BEGIN:VEVENT
DTSTART;TZID=America/New_York:20210318T190000
DTEND;TZID=America/New_York:20210318T200000
DTSTAMP:20260420T064213
CREATED:20210314T213729Z
LAST-MODIFIED:20210317T020700Z
UID:2929-1616094000-1616097600@lincolndems.org
SUMMARY:Precinct Meeting: Startown
DESCRIPTION:Any Lincoln County registered Democrat who wishes to attend his/her precinct meeting should contact the chair at lcncdp@gmail.com giving their name as listed in the Board of Elections or call the party headquarters at 704 748-1032 with the same information.  All meetings will be conducted through Zoom.
URL:https://lincolndems.org/event/precinct-meeting-startown/
LOCATION:Zoom
CATEGORIES:Precinct Meeting
END:VEVENT
BEGIN:VEVENT
DTSTART;TZID=America/New_York:20210318T190000
DTEND;TZID=America/New_York:20210318T200000
DTSTAMP:20260420T064213
CREATED:20210313T005200Z
LAST-MODIFIED:20210317T020718Z
UID:2921-1616094000-1616097600@lincolndems.org
SUMMARY:Precinct Meeting:  Lowesville
DESCRIPTION:Any Lincoln County registered Democrat who wishes to attend his/her precinct meeting should contact the chair at lcncdp@gmail.com giving their name as listed in the Board of Elections or call the party headquarters at 704 748-1032 with the same information.  All meetings will be conducted through Zoom.
URL:https://lincolndems.org/event/precinct-meeting-lowesville/
CATEGORIES:Precinct Meeting
END:VEVENT
BEGIN:VEVENT
DTSTART;TZID=America/New_York:20210318T180000
DTEND;TZID=America/New_York:20210318T190000
DTSTAMP:20260420T064213
CREATED:20210317T020534Z
LAST-MODIFIED:20210317T020534Z
UID:2937-1616090400-1616094000@lincolndems.org
SUMMARY:Precinct Meeting: Cowans Ford
DESCRIPTION:Any Lincoln County registered Democrat who wishes to attend his/her precinct meeting should contact the chair at lcncdp@gmail.com giving their name as listed in the Board of Elections or call the party headquarters at 704 748-1032 with the same information.  All meetings will be conducted through Zoom.
URL:https://lincolndems.org/event/precinct-meeting-cowans-ford-2/
LOCATION:Zoom
CATEGORIES:Precinct Meeting
END:VEVENT
END:VCALENDAR