BEGIN:VCALENDAR
VERSION:2.0
PRODID:-//wp-events-plugin.com//7.2.3.1//EN
TZID:America/New_York
X-WR-TIMEZONE:America/New_York
BEGIN:VEVENT
UID:275@lincolndems.org
DTSTART;TZID=America/New_York:20250922T180000
DTEND;TZID=America/New_York:20250922T193000
DTSTAMP:20250917T074940Z
URL:https://lincolndems.org/events/lincoln-county-democratic-party-womens-
 group-monthly-meeting-2025-09-22/
SUMMARY:Lincoln County Democratic Party Women's Group Monthly Meeting
DESCRIPTION:Common Cause is Coming!\nSEPTEMBER 22: 6:00 Social/Refreshments
   6:30Meeting (note the time has changed due to speakers’ travel times)
 \nA team is coming to discuss:\n\n\n 	\nGerrymandering/redistricting issue
 s\n\n 	\nState Board of Elections changes\n\n 	\nNAACP work by Common Caus
 e\n\n 	\nAnd more!\n\n 	\nWe will learn what steps individuals can take to
  address these issues\nThe Common Cause team is working hard to put togeth
 er an informative presentation. Let’s thank them by PACKING THE HOUSE!\n
 \nIf you can bring a snack: Call Beth Wise (704) 240-3223\nIf you need a r
 ide: Call Stephanie Schou (704) 860-6402\nPlease come and support us!
CATEGORIES:Democratic Women
LOCATION:LCDP Headquarters\, 129 W Water St. Ext.\, Lincolnton\, NC\, 28092
 \, United States
GEO:35.470049;-81.257885
X-APPLE-STRUCTURED-LOCATION;VALUE=URI;X-ADDRESS=129 W Water St. Ext.\, Linc
 olnton\, NC\, 28092\, United States;X-APPLE-RADIUS=100;X-TITLE=LCDP Headqu
 arters:geo:35.470049,-81.257885
END:VEVENT
BEGIN:VTIMEZONE
TZID:America/New_York
X-LIC-LOCATION:America/New_York
BEGIN:DAYLIGHT
DTSTART:20250309T030000
TZOFFSETFROM:-0500
TZOFFSETTO:-0400
TZNAME:EDT
END:DAYLIGHT
END:VTIMEZONE
END:VCALENDAR