BEGIN:VCALENDAR
VERSION:2.0
PRODID:-//wp-events-plugin.com//7.2.3.1//EN
TZID:America/New_York
X-WR-TIMEZONE:America/New_York
BEGIN:VEVENT
UID:661@lincolndems.org
DTSTART;TZID=America/New_York:20260321T090000
DTEND;TZID=America/New_York:20260321T120000
DTSTAMP:20260319T151715Z
URL:https://lincolndems.org/events/lcdp-county-convention/
SUMMARY:LCDP County Convention
DESCRIPTION:Join us for the LCDP County Convention.  Doors open at 9:00 am
 .  Delegates will get credentialed and business meeting starts at 10:00 a
 m.   WE WILL BE MEETING AT UNTAPPED TERRITORY BLDG DUE TO HQ BUILDING RE
 PAIRS.  124 E WATER STREET!\n\n
CATEGORIES:Convention
LOCATION:LCDP Headquarters\, 129 W Water St. Ext.\, Lincolnton\, NC\, 28092
 \, United States
GEO:35.470049;-81.257885
X-APPLE-STRUCTURED-LOCATION;VALUE=URI;X-ADDRESS=129 W Water St. Ext.\, Linc
 olnton\, NC\, 28092\, United States;X-APPLE-RADIUS=100;X-TITLE=LCDP Headqu
 arters:geo:35.470049,-81.257885
END:VEVENT
BEGIN:VTIMEZONE
TZID:America/New_York
X-LIC-LOCATION:America/New_York
BEGIN:DAYLIGHT
DTSTART:20260308T030000
TZOFFSETFROM:-0500
TZOFFSETTO:-0400
TZNAME:EDT
END:DAYLIGHT
END:VTIMEZONE
END:VCALENDAR