BEGIN:VCALENDAR
VERSION:2.0
PRODID:-//wp-events-plugin.com//7.2.3.1//EN
TZID:America/New_York
X-WR-TIMEZONE:America/New_York
BEGIN:VEVENT
UID:394@lincolndems.org
DTSTART;TZID=America/New_York:20251213T103000
DTEND;TZID=America/New_York:20251213T120000
DTSTAMP:20251205T163934Z
URL:https://lincolndems.org/events/join-indivisible-lincoln-county-nc-for-
 a-protest-in-denver/
SUMMARY:Join Indivisible Lincoln County NC for a Protest in Denver
DESCRIPTION:Let your voice be heard.  "Resist the dismantling of our Democ
 racy"  Bring your signs and stand up against this Administration.  Join 
 I-LCNC on Saturday\, December 13th\, 10:30am-12noon.\n\nhttps://www.indivi
 siblelincolncountync.org/events
CATEGORIES:Protest
LOCATION:Denver Protest Site\, 7158 NC-73\, Denver\, North Carolina \, 2803
 7\, United States
GEO:35.449377;-81.003668
X-APPLE-STRUCTURED-LOCATION;VALUE=URI;X-ADDRESS=7158 NC-73\, Denver\, North
  Carolina \, 28037\, United States;X-APPLE-RADIUS=100;X-TITLE=Denver Prote
 st Site:geo:35.449377,-81.003668
END:VEVENT
BEGIN:VTIMEZONE
TZID:America/New_York
X-LIC-LOCATION:America/New_York
BEGIN:STANDARD
DTSTART:20251102T010000
TZOFFSETFROM:-0400
TZOFFSETTO:-0500
TZNAME:EST
END:STANDARD
END:VTIMEZONE
END:VCALENDAR