BEGIN:VCALENDAR
VERSION:2.0
PRODID:-//wp-events-plugin.com//7.2.3.1//EN
TZID:America/New_York
X-WR-TIMEZONE:America/New_York
BEGIN:VEVENT
UID:385@lincolndems.org
DTSTART;TZID=America/New_York:20251018T100000
DTEND;TZID=America/New_York:20251018T120000
DTSTAMP:20251012T150133Z
URL:https://lincolndems.org/events/join-indivisible-lincoln-county-nc-for-
 a-protest-for-no-kings-ii/
SUMMARY:Join Indivisible Lincoln County NC for a Protest for No Kings II
DESCRIPTION:\n\nhttps://www.mobilize.us/commoncause/event/848216/
CATEGORIES:Community Event
END:VEVENT
BEGIN:VTIMEZONE
TZID:America/New_York
X-LIC-LOCATION:America/New_York
BEGIN:DAYLIGHT
DTSTART:20250309T030000
TZOFFSETFROM:-0500
TZOFFSETTO:-0400
TZNAME:EDT
END:DAYLIGHT
END:VTIMEZONE
END:VCALENDAR