BEGIN:VCALENDAR
VERSION:2.0
PRODID:-//wp-events-plugin.com//7.2.3.1//EN
TZID:America/New_York
X-WR-TIMEZONE:America/New_York
BEGIN:VEVENT
UID:186@lincolndems.org
DTSTART;TZID=America/New_York:20241114T183000
DTEND;TZID=America/New_York:20241114T183000
DTSTAMP:20241111T170920Z
URL:https://lincolndems.org/events/general-meeting-view-volunteer-ncdp-mee
 ting-together/
SUMMARY:General Meeting - View Volunteer NCDP Meeting together
DESCRIPTION:Join Us to watch NCDP Meeting with Anderson Clayton and Jeff Ja
 ckson\, for NC Dems Volunteers.\n\n\n\n&nbsp\;
CATEGORIES:General Meeting
LOCATION:LCDP Headquarters\, 129 W Water St. Ext.\, Lincolnton\, NC\, 28092
 \, United States
GEO:35.470049;-81.257885
X-APPLE-STRUCTURED-LOCATION;VALUE=URI;X-ADDRESS=129 W Water St. Ext.\, Linc
 olnton\, NC\, 28092\, United States;X-APPLE-RADIUS=100;X-TITLE=LCDP Headqu
 arters:geo:35.470049,-81.257885
END:VEVENT
BEGIN:VTIMEZONE
TZID:America/New_York
X-LIC-LOCATION:America/New_York
BEGIN:STANDARD
DTSTART:20241103T010000
TZOFFSETFROM:-0400
TZOFFSETTO:-0500
TZNAME:EST
END:STANDARD
END:VTIMEZONE
END:VCALENDAR