BEGIN:VCALENDAR
VERSION:2.0
PRODID:-//wp-events-plugin.com//7.2.3.1//EN
TZID:America/New_York
X-WR-TIMEZONE:America/New_York
BEGIN:VEVENT
UID:145@lincolndems.org
DTSTART;TZID=America/New_York:20240424T000000
DTEND;TZID=America/New_York:20240424T000000
DTSTAMP:20231128T210410Z
URL:https://lincolndems.org/events/district-meeting-time-and-place-tba/
SUMMARY:District Meeting - Time and Place TBA
DESCRIPTION:
END:VEVENT
BEGIN:VTIMEZONE
TZID:America/New_York
X-LIC-LOCATION:America/New_York
BEGIN:DAYLIGHT
DTSTART:20240310T030000
TZOFFSETFROM:-0500
TZOFFSETTO:-0400
TZNAME:EDT
END:DAYLIGHT
END:VTIMEZONE
END:VCALENDAR