BEGIN:VCALENDAR
VERSION:2.0
PRODID:-//wp-events-plugin.com//7.2.3.1//EN
TZID:America/New_York
X-WR-TIMEZONE:America/New_York
BEGIN:VEVENT
UID:136@lincolndems.org
DTSTART;TZID=America/New_York:20240826T183000
DTEND;TZID=America/New_York:20240826T183000
DTSTAMP:20240815T203011Z
URL:https://lincolndems.org/events/democratic-women-of-lincoln-county-mont
 hly-meeting-2024-08-26/
SUMMARY:Democratic Women of Lincoln County monthly meeting
DESCRIPTION:The Lincoln County Democratic Party Women will be meeting on Mo
 nday August 26th.  We are happy to welcome Ed Eldred\, Candidate for Nort
 h Carolina Court of Appeals.   In addition\, we are excited to hear from
  Henry Hertzberg running against Ted Alexander for Senate District 44!!  
 Refreshments will be served.   Come join us!
CATEGORIES:Candidate Event,Democratic Women
LOCATION:LCDP Headquarters\, 129 W Water St. Ext.\, Lincolnton\, NC\, 28092
 \, United States
GEO:35.470049;-81.257885
X-APPLE-STRUCTURED-LOCATION;VALUE=URI;X-ADDRESS=129 W Water St. Ext.\, Linc
 olnton\, NC\, 28092\, United States;X-APPLE-RADIUS=100;X-TITLE=LCDP Headqu
 arters:geo:35.470049,-81.257885
END:VEVENT
BEGIN:VTIMEZONE
TZID:America/New_York
X-LIC-LOCATION:America/New_York
BEGIN:DAYLIGHT
DTSTART:20240310T030000
TZOFFSETFROM:-0500
TZOFFSETTO:-0400
TZNAME:EDT
END:DAYLIGHT
END:VTIMEZONE
END:VCALENDAR