BEGIN:VCALENDAR
VERSION:2.0
PRODID:-//wp-events-plugin.com//7.2.3.1//EN
TZID:America/New_York
X-WR-TIMEZONE:America/New_York
BEGIN:VEVENT
UID:665@lincolndems.org
DTSTART;TZID=America/New_York:20260315T170000
DTEND;TZID=America/New_York:20260315T183000
DTSTAMP:20260306T190724Z
URL:https://lincolndems.org/events/ashley-bell-meet-and-greet/
SUMMARY:Ashley Bell MEET and GREET
DESCRIPTION:Ashley Bell (CD NC-10) campaign kickoffs at 5:00 at Untapped Te
 rritory on East Water Street\, Lincolnton. Special guests include other "D
 " candidates. Come meet and greet.
CATEGORIES:Candidate Event
LOCATION:Untapped Territory\, 118 East Water Street\, Lincolnton \, North C
 arolina\, 28092\, United States
GEO:35.470785;-81.256016
X-APPLE-STRUCTURED-LOCATION;VALUE=URI;X-ADDRESS=118 East Water Street\, Lin
 colnton \, North Carolina\, 28092\, United States;X-APPLE-RADIUS=100;X-TIT
 LE=Untapped Territory:geo:35.470785,-81.256016
END:VEVENT
BEGIN:VTIMEZONE
TZID:America/New_York
X-LIC-LOCATION:America/New_York
BEGIN:DAYLIGHT
DTSTART:20260308T030000
TZOFFSETFROM:-0500
TZOFFSETTO:-0400
TZNAME:EDT
END:DAYLIGHT
END:VTIMEZONE
END:VCALENDAR