BEGIN:VCALENDAR
VERSION:2.0
PRODID:-//wp-events-plugin.com//7.2.3.1//EN
TZID:America/New_York
X-WR-TIMEZONE:America/New_York
BEGIN:VEVENT
UID:118@lincolndems.org
DTSTART;TZID=America/New_York:20230304T100000
DTEND;TZID=America/New_York:20230304T130000
DTSTAMP:20230227T190609Z
URL:https://lincolndems.org/events/2023-precinct-organization-meeting-hq/
SUMMARY:2023 Precinct Organization Meeting - HQ
DESCRIPTION:The following precincts will meet at Lincoln County Democratic 
 Party headquarters\n\n 	Asbury\n 	Buffalo Shoals\n 	Daniels/Vale\n 	Denver
 \n 	Howards Creek\n 	Iron Station South\n 	Laboratory\n 	Lincolnton North\
 n 	Lincolnton South\n 	Lithia\n 	North Brook\n 	Salem\n 	Startown\n
CATEGORIES:Precinct Meeting
LOCATION:LCDP Headquarters\, 129 W Water St. Ext.\, Lincolnton\, NC\, 28092
 \, United States
GEO:35.470049;-81.257885
X-APPLE-STRUCTURED-LOCATION;VALUE=URI;X-ADDRESS=129 W Water St. Ext.\, Linc
 olnton\, NC\, 28092\, United States;X-APPLE-RADIUS=100;X-TITLE=LCDP Headqu
 arters:geo:35.470049,-81.257885
END:VEVENT
BEGIN:VTIMEZONE
TZID:America/New_York
X-LIC-LOCATION:America/New_York
BEGIN:STANDARD
DTSTART:20221106T010000
TZOFFSETFROM:-0400
TZOFFSETTO:-0500
TZNAME:EST
END:STANDARD
END:VTIMEZONE
END:VCALENDAR