BEGIN:VCALENDAR
VERSION:2.0
PRODID:-//wp-events-plugin.com//7.2.3.1//EN
TZID:America/New_York
X-WR-TIMEZONE:America/New_York
BEGIN:VEVENT
UID:395@lincolndems.org
DTSTART;TZID=America/New_York:20260207T080000
DTEND;TZID=America/New_York:20260207T130000
DTSTAMP:20251230T134804Z
URL:https://lincolndems.org/es/events/winter-sec-meeting-forsyth-county/
SUMMARY:Winter SEC Meeting (Forsyth County)
DESCRIPTION:Winter SEC Meeting  February 7th Forsyth County.   Time and 
 Place TBD
CATEGORIES:Executive Meeting
END:VEVENT
BEGIN:VTIMEZONE
TZID:America/New_York
X-LIC-LOCATION:America/New_York
BEGIN:STANDARD
DTSTART:20251102T010000
TZOFFSETFROM:-0400
TZOFFSETTO:-0500
TZNAME:EST
END:STANDARD
END:VTIMEZONE
END:VCALENDAR