BEGIN:VCALENDAR
VERSION:2.0
PRODID:-//wp-events-plugin.com//7.2.3.1//EN
TZID:America/New_York
X-WR-TIMEZONE:America/New_York
BEGIN:VEVENT
UID:383@lincolndems.org
DTSTART;TZID=America/New_York:20251031T180000
DTEND;TZID=America/New_York:20251031T200000
DTSTAMP:20251029T150948Z
URL:https://lincolndems.org/es/events/trunk-or-treat-2/
SUMMARY:Trunk or Treat
DESCRIPTION:The Lincoln County Democratic Men will again support the City o
 f Lincolnton Trunk or Treat (aka The Halloween Extravaganza) by distributi
 ng bags of candy at our headquarters on the Water Street Side.  Last year
  we gave out almost 600 bags of candy.  RIchard McSwain will be the chief
  volunteer coordinator and candy procurement leader.  Beth Wise will be c
 oordinating bagging the candy and more.  Jill Eaddy will lead decoration 
 efforts.  Karlie Calloway will coordinate the Spooky Movies portion of th
 e evening.\n\n
CATEGORIES:Community Event,Democratic Men
LOCATION:LCDP Headquarters\, 129 W Water St. Ext.\, Lincolnton\, NC\, 28092
 \, Estados Unidos
GEO:35.470049;-81.257885
X-APPLE-STRUCTURED-LOCATION;VALUE=URI;X-ADDRESS=129 W Water St. Ext.\, Linc
 olnton\, NC\, 28092\, Estados Unidos;X-APPLE-RADIUS=100;X-TITLE=LCDP Headq
 uarters:geo:35.470049,-81.257885
END:VEVENT
BEGIN:VTIMEZONE
TZID:America/New_York
X-LIC-LOCATION:America/New_York
BEGIN:DAYLIGHT
DTSTART:20250309T030000
TZOFFSETFROM:-0500
TZOFFSETTO:-0400
TZNAME:EDT
END:DAYLIGHT
END:VTIMEZONE
END:VCALENDAR