BEGIN:VCALENDAR
VERSION:2.0
PRODID:-//wp-events-plugin.com//7.2.3.1//EN
TZID:America/New_York
X-WR-TIMEZONE:America/New_York
BEGIN:VEVENT
UID:348@lincolndems.org
DTSTART;TZID=America/New_York:20250318T183000
DTEND;TZID=America/New_York:20250318T203000
DTSTAMP:20250317T145931Z
URL:https://lincolndems.org/es/events/precinct-meeting-howard-creek/
SUMMARY:Precinct Meeting:  Howard Creek
DESCRIPTION:All Democrats and Unaffiliated Voters in this precinct are invi
 ted.  Please come.   Agenda: Votes for Precinct Chair\, Vice Chair\, Se
 cretary and Treasurer.   Plans for community involvement\, Billboard pla
 n for each precinct\, volunteer recruitment.  Unaffiliated voters encoura
 ged to join in.  (voting on precinct officials are restricted to Dems onl
 y)\n\nHoward Creek\n\n&nbsp\;\n\n
CATEGORIES:Precinct Meeting
LOCATION:Store Building In Crouse\, 2690 West Old NC 150 Hwy\, Crouse \, No
 rth Carolina \, 28033\, Estados Unidos
GEO:35.426113;-81.30233
X-APPLE-STRUCTURED-LOCATION;VALUE=URI;X-ADDRESS=2690 West Old NC 150 Hwy\, 
 Crouse \, North Carolina \, 28033\, Estados Unidos;X-APPLE-RADIUS=100;X-TI
 TLE=Store Building In Crouse:geo:35.426113,-81.30233
END:VEVENT
BEGIN:VTIMEZONE
TZID:America/New_York
X-LIC-LOCATION:America/New_York
BEGIN:DAYLIGHT
DTSTART:20250309T030000
TZOFFSETFROM:-0500
TZOFFSETTO:-0400
TZNAME:EDT
END:DAYLIGHT
END:VTIMEZONE
END:VCALENDAR