BEGIN:VCALENDAR
VERSION:2.0
PRODID:-//wp-events-plugin.com//7.2.3.1//EN
TZID:America/New_York
X-WR-TIMEZONE:America/New_York
BEGIN:VEVENT
UID:138@lincolndems.org
DTSTART;TZID=America/New_York:20231010T103000
DTEND;TZID=America/New_York:20231010T130000
DTSTAMP:20231002T174517Z
URL:https://lincolndems.org/es/events/post-card-writing/
SUMMARY:Post Card Writing
DESCRIPTION:We could use as many hands as possible to help write postcards.
    We will be at Headquarters.
END:VEVENT
BEGIN:VTIMEZONE
TZID:America/New_York
X-LIC-LOCATION:America/New_York
BEGIN:DAYLIGHT
DTSTART:20230312T030000
TZOFFSETFROM:-0500
TZOFFSETTO:-0400
TZNAME:EDT
END:DAYLIGHT
END:VTIMEZONE
END:VCALENDAR