BEGIN:VCALENDAR
VERSION:2.0
PRODID:-//wp-events-plugin.com//7.2.3.1//EN
TZID:America/New_York
X-WR-TIMEZONE:America/New_York
BEGIN:VEVENT
UID:147@lincolndems.org
DTSTART;TZID=America/New_York:20240123T190000
DTEND;TZID=America/New_York:20240123T203000
DTSTAMP:20231231T172423Z
URL:https://lincolndems.org/es/events/lincoln-county-reception-for-josh-st
 ein/
SUMMARY:Lincoln County Reception for Josh Stein
DESCRIPTION:[pdf-embedder url="https://lincolndems.org/wp9/wp-content/uploa
 ds/2023/12/Lincoln-County-Reception-for-Josh-Stein.pdf" title="Lincoln Cou
 nty Reception for Josh Stein"]
END:VEVENT
BEGIN:VTIMEZONE
TZID:America/New_York
X-LIC-LOCATION:America/New_York
BEGIN:STANDARD
DTSTART:20231105T010000
TZOFFSETFROM:-0400
TZOFFSETTO:-0500
TZNAME:EST
END:STANDARD
END:VTIMEZONE
END:VCALENDAR