BEGIN:VCALENDAR
VERSION:2.0
PRODID:-//wp-events-plugin.com//7.2.3.1//EN
TZID:America/New_York
X-WR-TIMEZONE:America/New_York
BEGIN:VEVENT
UID:353@lincolndems.org
DTSTART;TZID=America/New_York:20250426T093000
DTEND;TZID=America/New_York:20250426T120000
DTSTAMP:20250424T155342Z
URL:https://lincolndems.org/es/events/lincoln-county-democratic-party-coun
 ty-convention-2/
SUMMARY:Lincoln County Democratic Party County Convention
DESCRIPTION:Please plan to attend the LCDP County Convention.   We have m
 uch business to discuss!   All are welcome.  Registration 9:30-10am\, C
 all to order 10Am\n\n
CATEGORIES:Convention
LOCATION:LCDP Headquarters\, 129 W Water St. Ext.\, Lincolnton\, NC\, 28092
 \, Estados Unidos
GEO:35.470049;-81.257885
X-APPLE-STRUCTURED-LOCATION;VALUE=URI;X-ADDRESS=129 W Water St. Ext.\, Linc
 olnton\, NC\, 28092\, Estados Unidos;X-APPLE-RADIUS=100;X-TITLE=LCDP Headq
 uarters:geo:35.470049,-81.257885
END:VEVENT
BEGIN:VTIMEZONE
TZID:America/New_York
X-LIC-LOCATION:America/New_York
BEGIN:DAYLIGHT
DTSTART:20250309T030000
TZOFFSETFROM:-0500
TZOFFSETTO:-0400
TZNAME:EDT
END:DAYLIGHT
END:VTIMEZONE
END:VCALENDAR