BEGIN:VCALENDAR
VERSION:2.0
PRODID:-//wp-events-plugin.com//7.2.3.1//EN
TZID:America/New_York
X-WR-TIMEZONE:America/New_York
BEGIN:VEVENT
UID:658@lincolndems.org
DTSTART;TZID=America/New_York:20260210T183000
DTEND;TZID=America/New_York:20260210T200000
DTSTAMP:20260204T193625Z
URL:https://lincolndems.org/es/events/lgbtq-february-meeting-help-us-plan-
 for-the-upcoming-year/
SUMMARY:LGBTQ+ February Meeting.  Help us plan for the upcoming year!
DESCRIPTION:Help us plan events for 2026 LGBTQ+ community !   Join us.\n\
 n\n\n&nbsp\;\n\n&nbsp\;\n\n&nbsp\;
CATEGORIES:LGBTQ+ of Lincoln County
END:VEVENT
BEGIN:VTIMEZONE
TZID:America/New_York
X-LIC-LOCATION:America/New_York
BEGIN:STANDARD
DTSTART:20251102T010000
TZOFFSETFROM:-0400
TZOFFSETTO:-0500
TZNAME:EST
END:STANDARD
END:VTIMEZONE
END:VCALENDAR