BEGIN:VCALENDAR
VERSION:2.0
PRODID:-//wp-events-plugin.com//7.2.3.1//EN
TZID:America/New_York
X-WR-TIMEZONE:America/New_York
BEGIN:VEVENT
UID:354@lincolndems.org
DTSTART;TZID=America/New_York:20250422T130000
DTEND;TZID=America/New_York:20250422T150000
DTSTAMP:20250330T161041Z
URL:https://lincolndems.org/es/events/join-the-lcdp-mens-club-to-celebrate
 -55th-anniversary-of-earth-day/
SUMMARY:Join the LCDP Men's Club to celebrate 55th anniversary of Earth Day
DESCRIPTION:"Earth Day with the Lincoln County Democratic Men Club" .  It 
 is the 55th anniversary of Earth Day.  This is remembered this year with 
 a trail cleanup (light trash removal) effort.  We meet at 1:00 am at LCDP
  Headquarters\, 129 West Water Street Extension and proceed to the trail f
 rom there.  Wear trail walking clothes and shoes.  Water and gloves are 
 good ideas.  Bags and grabbers are available from team leaders.  Trail i
 s 3.5 miles long with two entrance points.
CATEGORIES:Community Event
LOCATION:LCDP Headquarters\, 129 W Water St. Ext.\, Lincolnton\, NC\, 28092
 \, Estados Unidos
GEO:35.470049;-81.257885
X-APPLE-STRUCTURED-LOCATION;VALUE=URI;X-ADDRESS=129 W Water St. Ext.\, Linc
 olnton\, NC\, 28092\, Estados Unidos;X-APPLE-RADIUS=100;X-TITLE=LCDP Headq
 uarters:geo:35.470049,-81.257885
END:VEVENT
BEGIN:VTIMEZONE
TZID:America/New_York
X-LIC-LOCATION:America/New_York
BEGIN:DAYLIGHT
DTSTART:20250309T030000
TZOFFSETFROM:-0500
TZOFFSETTO:-0400
TZNAME:EDT
END:DAYLIGHT
END:VTIMEZONE
END:VCALENDAR