BEGIN:VCALENDAR
VERSION:2.0
PRODID:-//wp-events-plugin.com//7.2.3.1//EN
TZID:America/New_York
X-WR-TIMEZONE:America/New_York
BEGIN:VEVENT
UID:374@lincolndems.org
DTSTART;TZID=America/New_York:20250925T180000
DTEND;TZID=America/New_York:20250925T200000
DTSTAMP:20250824T153105Z
URL:https://lincolndems.org/es/events/join-indivisible-lincoln-county-nc-f
 or-a-social-event/
SUMMARY:Join Indivisible Lincoln County NC\, for a Social Event
DESCRIPTION:Join in for some social time with Folks interested in light hea
 rted discussions and get to know one another.\n\nWhere:  Royal Bliss Brew
 ery\, 7532 Royal Bliss Court\, Denver\, NC\, upstairs.\n\nWhen:   6pm Th
 ursday night\, September 25th\n\nThere will be food\, beer and wine availa
 ble for purchase.
CATEGORIES:Community Event
END:VEVENT
BEGIN:VTIMEZONE
TZID:America/New_York
X-LIC-LOCATION:America/New_York
BEGIN:DAYLIGHT
DTSTART:20250309T030000
TZOFFSETFROM:-0500
TZOFFSETTO:-0400
TZNAME:EDT
END:DAYLIGHT
END:VTIMEZONE
END:VCALENDAR