BEGIN:VCALENDAR
VERSION:2.0
PRODID:-//wp-events-plugin.com//7.2.3.1//EN
TZID:America/New_York
X-WR-TIMEZONE:America/New_York
BEGIN:VEVENT
UID:657@lincolndems.org
DTSTART;TZID=America/New_York:20260221T103000
DTEND;TZID=America/New_York:20260221T120000
DTSTAMP:20260127T180103Z
URL:https://lincolndems.org/es/events/join-indivisible-lincoln-county-nc-f
 or-a-protest/
SUMMARY:Join Indivisible Lincoln County NC for a Protest
DESCRIPTION:Join Indivisible LCNC in Denver for a protest !  Saturday\, Fe
 bruary 21st. 10:30-Noon. Theme\, When Injustice becomes law\, Resistance b
 ecomes Duty!\n\n\n\nRSVP\n\n&nbsp\;\n\n&nbsp\;
CATEGORIES:Protest
LOCATION:Denver Protest Site\, 7158 NC-73\, Denver\, North Carolina \, 2803
 7\, Estados Unidos
GEO:35.449377;-81.003668
X-APPLE-STRUCTURED-LOCATION;VALUE=URI;X-ADDRESS=7158 NC-73\, Denver\, North
  Carolina \, 28037\, Estados Unidos;X-APPLE-RADIUS=100;X-TITLE=Denver Prot
 est Site:geo:35.449377,-81.003668
END:VEVENT
BEGIN:VTIMEZONE
TZID:America/New_York
X-LIC-LOCATION:America/New_York
BEGIN:STANDARD
DTSTART:20251102T010000
TZOFFSETFROM:-0400
TZOFFSETTO:-0500
TZNAME:EST
END:STANDARD
END:VTIMEZONE
END:VCALENDAR