BEGIN:VCALENDAR
VERSION:2.0
PRODID:-//wp-events-plugin.com//7.2.3.1//EN
TZID:America/New_York
X-WR-TIMEZONE:America/New_York
BEGIN:VEVENT
UID:407@lincolndems.org
DTSTART;TZID=America/New_York:20260117T100000
DTEND;TZID=America/New_York:20260117T110000
DTSTAMP:20260112T193157Z
URL:https://lincolndems.org/es/events/indivisible-protest-ice-out-stand-up
 -for-renee-good/
SUMMARY:Indivisible Protest "ICE OUT" Stand up for Renee Good
DESCRIPTION:Join Indivisible in Denver for a Protest.   "ICE OUT".  Stan
 d up for Renee Good and Immigrants Rights.   Hwy 73 on Public property i
 n front of Burger King Denver!  https://www.indivisiblelincolncountync.o
 rg/events-1/protest-courage-is-not-chilled-ice-out\n\n
CATEGORIES:Protest
LOCATION:Denver Protest Site\, 7158 NC-73\, Denver\, North Carolina \, 2803
 7\, Estados Unidos
GEO:35.449377;-81.003668
X-APPLE-STRUCTURED-LOCATION;VALUE=URI;X-ADDRESS=7158 NC-73\, Denver\, North
  Carolina \, 28037\, Estados Unidos;X-APPLE-RADIUS=100;X-TITLE=Denver Prot
 est Site:geo:35.449377,-81.003668
END:VEVENT
BEGIN:VTIMEZONE
TZID:America/New_York
X-LIC-LOCATION:America/New_York
BEGIN:STANDARD
DTSTART:20251102T010000
TZOFFSETFROM:-0400
TZOFFSETTO:-0500
TZNAME:EST
END:STANDARD
END:VTIMEZONE
END:VCALENDAR