BEGIN:VCALENDAR
VERSION:2.0
PRODID:-//wp-events-plugin.com//7.2.3.1//EN
TZID:America/New_York
X-WR-TIMEZONE:America/New_York
BEGIN:VEVENT
UID:135@lincolndems.org
DTSTART;TZID=America/New_York:20240722T183000
DTEND;TZID=America/New_York:20240722T203000
DTSTAMP:20240618T181915Z
URL:https://lincolndems.org/es/events/democratic-women-of-lincoln-county-m
 onthly-meeting-2024-07-22/
SUMMARY:Democratic Women of Lincoln County monthly meeting
DESCRIPTION:The Democratic Women of Lincoln County NC will meet at LCDP Hea
 dquarters July 22cnd for a Barbecue Supper.  This will be a fund raiser f
 or Mo Green campaign.  Maurice Green is running for NC Superintendent of 
 Public Instruction.  "The Very SOUL of Public Education is ON the LINE." 
 Please come support him!  $15.00 per person.  See you there!\n\n
CATEGORIES:Democratic Women
LOCATION:LCDP Headquarters\, 129 W Water St. Ext.\, Lincolnton\, NC\, 28092
 \, Estados Unidos
GEO:35.470049;-81.257885
X-APPLE-STRUCTURED-LOCATION;VALUE=URI;X-ADDRESS=129 W Water St. Ext.\, Linc
 olnton\, NC\, 28092\, Estados Unidos;X-APPLE-RADIUS=100;X-TITLE=LCDP Headq
 uarters:geo:35.470049,-81.257885
END:VEVENT
BEGIN:VTIMEZONE
TZID:America/New_York
X-LIC-LOCATION:America/New_York
BEGIN:DAYLIGHT
DTSTART:20240310T030000
TZOFFSETFROM:-0500
TZOFFSETTO:-0400
TZNAME:EDT
END:DAYLIGHT
END:VTIMEZONE
END:VCALENDAR