BEGIN:VCALENDAR
VERSION:2.0
PRODID:-//wp-events-plugin.com//7.2.3.1//EN
TZID:America/New_York
X-WR-TIMEZONE:America/New_York
BEGIN:VEVENT
UID:130@lincolndems.org
DTSTART;TZID=America/New_York:20240226T183000
DTEND;TZID=America/New_York:20240226T203000
DTSTAMP:20240209T021126Z
URL:https://lincolndems.org/es/events/democratic-women-of-lincoln-county-m
 onthly-meeting-2024-02-26/
SUMMARY:Democratic Women of Lincoln County monthly meeting
DESCRIPTION:The Democratic Women of Lincoln County NC will meet at LCDP Hea
 dquarters the 4th Monday of each month at 7pm (6:30 brief social time).  
  Refreshments.  Come join us!  This month we will have a joint meeting 
 for all Lincoln County Democrats!\n\n
CATEGORIES:Democratic Women
LOCATION:LCDP Headquarters\, 129 W Water St. Ext.\, Lincolnton\, NC\, 28092
 \, Estados Unidos
GEO:35.470049;-81.257885
X-APPLE-STRUCTURED-LOCATION;VALUE=URI;X-ADDRESS=129 W Water St. Ext.\, Linc
 olnton\, NC\, 28092\, Estados Unidos;X-APPLE-RADIUS=100;X-TITLE=LCDP Headq
 uarters:geo:35.470049,-81.257885
END:VEVENT
BEGIN:VTIMEZONE
TZID:America/New_York
X-LIC-LOCATION:America/New_York
BEGIN:STANDARD
DTSTART:20231105T010000
TZOFFSETFROM:-0400
TZOFFSETTO:-0500
TZNAME:EST
END:STANDARD
END:VTIMEZONE
END:VCALENDAR