BEGIN:VCALENDAR
VERSION:2.0
PRODID:-//wp-events-plugin.com//7.2.3.1//EN
TZID:America/New_York
X-WR-TIMEZONE:America/New_York
BEGIN:VEVENT
UID:129@lincolndems.org
DTSTART;TZID=America/New_York:20240122T183000
DTEND;TZID=America/New_York:20240122T203000
DTSTAMP:20240117T194322Z
URL:https://lincolndems.org/es/events/democratic-women-of-lincoln-county-m
 onthly-meeting-2024-01-22/
SUMMARY:Democratic Women of Lincoln County monthly meeting
DESCRIPTION:The Democratic Women of Lincoln County NC will hold a joint mee
 ting with the LCDM on January 22cnd at LCDP Headquarters at 7pm (6:30 brie
 f social time).  Refreshments.\n\nAgenda: Our own Forrest Chambless 
 will be doing the program and it will be about the Progressive
  Turnout Project (PAC).  You will learn what it is\, who can 
 participate\, how it was used locally in the past election\, whe
 n it begins\, and the importance of post cards\, telephone calls
 \, and door to door canvassing in primaries\, early voting\, and
  election days.  It’s a must for getting the best results. 
  Come and get excited about what will be a very busy and succ
 essful year for Democrats and hear about the tools available to u
 s.\n\nIt would also be a great time to meet with our local Sch
 ool Board candidate\, Keith Poston\, and help kick off his campa
 ign with a big show of support from us!  Come join us! 
CATEGORIES:Democratic Women
LOCATION:LCDP Headquarters\, 129 W Water St. Ext.\, Lincolnton\, NC\, 28092
 \, Estados Unidos
GEO:35.470049;-81.257885
X-APPLE-STRUCTURED-LOCATION;VALUE=URI;X-ADDRESS=129 W Water St. Ext.\, Linc
 olnton\, NC\, 28092\, Estados Unidos;X-APPLE-RADIUS=100;X-TITLE=LCDP Headq
 uarters:geo:35.470049,-81.257885
END:VEVENT
BEGIN:VTIMEZONE
TZID:America/New_York
X-LIC-LOCATION:America/New_York
BEGIN:STANDARD
DTSTART:20231105T010000
TZOFFSETFROM:-0400
TZOFFSETTO:-0500
TZNAME:EST
END:STANDARD
END:VTIMEZONE
END:VCALENDAR