BEGIN:VCALENDAR
VERSION:2.0
PRODID:-//wp-events-plugin.com//7.2.3.1//EN
TZID:America/New_York
X-WR-TIMEZONE:America/New_York
BEGIN:VEVENT
UID:406@lincolndems.org
DTSTART;TZID=America/New_York:20260119T134500
DTEND;TZID=America/New_York:20260119T150000
DTSTAMP:20260108T174341Z
URL:https://lincolndems.org/es/events/celebrate-the-life-of-martin-luther-
 king-jr-with-a-march-in-lincolnton-nc/
SUMMARY:Celebrate the Life of Martin Luther King Jr. with a March in Lincol
 nton\, NC
DESCRIPTION:Come March with us in Celebration of the Life of Rev. Martin Lu
 ther King Jr.  A band form our school system will perform as we march to 
 the Square.  The March starts at Cedar Street (by the Lincoln Cultural Ce
 nter) on East Main Street to the Old Court House Square.\n\n&nbsp\;\n\n
CATEGORIES:Community Event
LOCATION:Lincoln Cultural Center\, 403 East Main Street\, Lincolnton \, Nor
 th Carolina \, 28092\, Estados Unidos
GEO:35.473357;-81.252271
X-APPLE-STRUCTURED-LOCATION;VALUE=URI;X-ADDRESS=403 East Main Street\, Linc
 olnton \, North Carolina \, 28092\, Estados Unidos;X-APPLE-RADIUS=100;X-TI
 TLE=Lincoln Cultural Center:geo:35.473357,-81.252271
END:VEVENT
BEGIN:VTIMEZONE
TZID:America/New_York
X-LIC-LOCATION:America/New_York
BEGIN:STANDARD
DTSTART:20251102T010000
TZOFFSETFROM:-0400
TZOFFSETTO:-0500
TZNAME:EST
END:STANDARD
END:VTIMEZONE
END:VCALENDAR