BEGIN:VCALENDAR
VERSION:2.0
PRODID:-//wp-events-plugin.com//7.2.3.1//EN
TZID:America/New_York
X-WR-TIMEZONE:America/New_York
BEGIN:VEVENT
UID:350@lincolndems.org
DTSTART;TZID=America/New_York:20250315T100000
DTEND;TZID=America/New_York:20250315T100000
DTSTAMP:20250314T212821Z
URL:https://lincolndems.org/es/events/catawba-indivisible-town-hall/
SUMMARY:Catawba Indivisible Town Hall
DESCRIPTION: A coalition of organizations\, led by Indivisible Citizens of
  Catawba Valley\, will host a peaceful Town Hall on March 15th at 10:00.\n
 \nLocation: Appalachian State Hickory Campus\, 800 17th Street NW\, Suite 
 G467\, Hickory NC.   We will gather in front of Congressman Harrigan’s
  office.\n\nThe following speakers will address 3 specific issues:\n\nEduc
 ation:  Dr. Kimberly Turk\nImmigration:  Gianella Romero\, executive dir
 ector\, Centro Latino\nHealth Care:  Laurie Childress\n\nWHAT CAN YOU DO:
 \n\nAttend/Bring a friend\n\nWrite a Letter to Congressman Harrigan and br
 ing with you (please consider writing a letter/asking a question regarding
  one or all the issues\; we will collect the letters and bring them to his
  office on March 17)\n\nMake/Carry a Sign  (please nothing profane or der
 ogatory)\n\n\n\n&nbsp\;\n\n&nbsp\;\n\n&nbsp\;\n\n&nbsp\;
CATEGORIES:Community Event
LOCATION:Hickory Town Hall Meeting\, Appalachian State Hickory Campus\, 800
  17th Street NW\, Suite G467\, Hickory \, North Carolina\, 28601\, Estados
  Unidos
GEO:35.743364;-81.366593
X-APPLE-STRUCTURED-LOCATION;VALUE=URI;X-ADDRESS=Appalachian State Hickory C
 ampus\, 800 17th Street NW\, Suite G467\, Hickory \, North Carolina\, 2860
 1\, Estados Unidos;X-APPLE-RADIUS=100;X-TITLE=Hickory Town Hall Meeting:ge
 o:35.743364,-81.366593
END:VEVENT
BEGIN:VTIMEZONE
TZID:America/New_York
X-LIC-LOCATION:America/New_York
BEGIN:DAYLIGHT
DTSTART:20250309T030000
TZOFFSETFROM:-0500
TZOFFSETTO:-0400
TZNAME:EDT
END:DAYLIGHT
END:VTIMEZONE
END:VCALENDAR